BEGIN:VCALENDAR
VERSION:2.0
PRODID:-//Kluser Lamas auf der Oberen Klus in Aesch - ECPv6.15.20//NONSGML v1.0//EN
CALSCALE:GREGORIAN
METHOD:PUBLISH
X-ORIGINAL-URL:https://kluser-lamas.ch
X-WR-CALDESC:Veranstaltungen für Kluser Lamas auf der Oberen Klus in Aesch
REFRESH-INTERVAL;VALUE=DURATION:PT1H
X-Robots-Tag:noindex
X-PUBLISHED-TTL:PT1H
BEGIN:VTIMEZONE
TZID:Europe/Zurich
BEGIN:DAYLIGHT
TZOFFSETFROM:+0100
TZOFFSETTO:+0200
TZNAME:CEST
DTSTART:20240331T010000
END:DAYLIGHT
BEGIN:STANDARD
TZOFFSETFROM:+0200
TZOFFSETTO:+0100
TZNAME:CET
DTSTART:20241027T010000
END:STANDARD
BEGIN:DAYLIGHT
TZOFFSETFROM:+0100
TZOFFSETTO:+0200
TZNAME:CEST
DTSTART:20250330T010000
END:DAYLIGHT
BEGIN:STANDARD
TZOFFSETFROM:+0200
TZOFFSETTO:+0100
TZNAME:CET
DTSTART:20251026T010000
END:STANDARD
BEGIN:DAYLIGHT
TZOFFSETFROM:+0100
TZOFFSETTO:+0200
TZNAME:CEST
DTSTART:20260329T010000
END:DAYLIGHT
BEGIN:STANDARD
TZOFFSETFROM:+0200
TZOFFSETTO:+0100
TZNAME:CET
DTSTART:20261025T010000
END:STANDARD
END:VTIMEZONE
BEGIN:VEVENT
DTSTART;TZID=Europe/Zurich:20251026T100000
DTEND;TZID=Europe/Zurich:20251026T140000
DTSTAMP:20260420T105127
CREATED:20240111T160822Z
LAST-MODIFIED:20250121T104821Z
UID:2565-1761472800-1761487200@kluser-lamas.ch
SUMMARY:Glücksmomente - Sonntag 26. Oktober 2025
DESCRIPTION:Glücksmomente – Sonntag 26. Oktober 2025 | Ein Freizeitangebot für Geschwister eines Kindes mit besonderen Bedürfnissen\n\n\nSonntag 26. Oktober 2025 – Anmeldeschluss: 19. Oktober 2025\n\n\n			\n				Details & Anmeldung
URL:https://kluser-lamas.ch/event/gluecksmomente-sonntag-26-oktober-2025/
LOCATION:Kluser Lamas\, Obere Klus\, Aesch\, Schweiz
ATTACH;FMTTYPE=image/jpeg:https://kluser-lamas.ch/wp-content/uploads/2024/01/1920x1280px_Kluser_Lamas_Gluecksmomente_02.jpg
END:VEVENT
END:VCALENDAR